BEGIN:VCALENDAR
VERSION:2.0
PRODID:-//Garnet School - ECPv6.15.20//NONSGML v1.0//EN
CALSCALE:GREGORIAN
METHOD:PUBLISH
X-ORIGINAL-URL:https://garnetschool.com
X-WR-CALDESC:Events for Garnet School
REFRESH-INTERVAL;VALUE=DURATION:PT1H
X-Robots-Tag:noindex
X-PUBLISHED-TTL:PT1H
BEGIN:VTIMEZONE
TZID:America/New_York
BEGIN:DAYLIGHT
TZOFFSETFROM:-0500
TZOFFSETTO:-0400
TZNAME:EDT
DTSTART:20250309T070000
END:DAYLIGHT
BEGIN:STANDARD
TZOFFSETFROM:-0400
TZOFFSETTO:-0500
TZNAME:EST
DTSTART:20251102T060000
END:STANDARD
BEGIN:DAYLIGHT
TZOFFSETFROM:-0500
TZOFFSETTO:-0400
TZNAME:EDT
DTSTART:20260308T070000
END:DAYLIGHT
BEGIN:STANDARD
TZOFFSETFROM:-0400
TZOFFSETTO:-0500
TZNAME:EST
DTSTART:20261101T060000
END:STANDARD
BEGIN:DAYLIGHT
TZOFFSETFROM:-0500
TZOFFSETTO:-0400
TZNAME:EDT
DTSTART:20270314T070000
END:DAYLIGHT
BEGIN:STANDARD
TZOFFSETFROM:-0400
TZOFFSETTO:-0500
TZNAME:EST
DTSTART:20271107T060000
END:STANDARD
END:VTIMEZONE
BEGIN:VEVENT
DTSTART;TZID=America/New_York:20260315T133000
DTEND;TZID=America/New_York:20260315T150000
DTSTAMP:20260424T124004
CREATED:20250509T144816Z
LAST-MODIFIED:20250509T144836Z
UID:10001033-1773581400-1773586800@garnetschool.com
SUMMARY:Garnet School Ruck/Shoot
DESCRIPTION:Bring a backpack full of hiking supplies\, water bottle\, etc. I’ll be wearing a plate carrier and plenty of magazines and a rifle. \n\n\n\nWe usually hike 2-4 miles\, but we’ve been known to go six. Mostly moderate terrain\, OK for kids. Sometimes\, we’ll scale the hill south of the property\, but only if everyone is willing. \n\n\n\nThis is a free-of-charge\, open-carry event. This will be held rain or shine\, snow or heat wave. It is designed to prepare you for bugging out. In real life\, you don’t get to wait until a nice sunny day to get moving. \n\n\n\nOptional shooting after. Range donations accepted. If you want to bring after-hike protein\, we’ll have the grill fired up. And the campfire. Your libation and smoke of choice are always welcome\, just no shooting once you start imbibing.
URL:https://garnetschool.com/event/garnet-school-ruck-shoot-5/2026-03-15/
ATTACH;FMTTYPE=image/png:https://garnetschool.com/wp-content/uploads/2023/09/2023-10-09-19_05_09-20230917_141716.JPG-‎-Photos.png
END:VEVENT
END:VCALENDAR